BEGIN:VCALENDAR
VERSION:2.0
PRODID:-//Vsprr//EN
CALSCALE:GREGORIAN
METHOD:PUBLISH
BEGIN:VEVENT
UID:310@vsprr.com
DTSTAMP:20260422T053323Z
DTSTART:20260426T120000Z
DTEND:20260426T150000Z
SUMMARY:Dinner
DESCRIPTION:
LOCATION:TBD
STATUS:CONFIRMED
SEQUENCE:0
END:VEVENT
END:VCALENDAR