BEGIN:VCALENDAR
VERSION:2.0
PRODID:-//Vsprr//EN
CALSCALE:GREGORIAN
METHOD:PUBLISH
BEGIN:VEVENT
UID:309@vsprr.com
DTSTAMP:20260421T112119Z
DTSTART:20260422T000000Z
DTEND:20260422T020000Z
SUMMARY:Wed am padel
DESCRIPTION:
LOCATION:Joy Division Padel court 3 8-10, court 2&3 9-10
STATUS:CONFIRMED
SEQUENCE:0
END:VEVENT
END:VCALENDAR